BEGIN:VCALENDAR
VERSION:2.0
PRODID:-//wp-events-plugin.com//7.2.3.1//EN
TZID:Europe/Rome
X-WR-TIMEZONE:Europe/Rome
BEGIN:VEVENT
UID:26@teatribu.it
DTSTART;TZID=Europe/Rome:20260307T204500
DTEND;TZID=Europe/Rome:20260307T224500
DTSTAMP:20260213T082131Z
URL:https://teatribu.it/events/surprise-game-sol-mi/
SUMMARY:Surprise game + Sol Mi
DESCRIPTION:Sabato 7 marzo Teatribù ti aspetta con due spettacoli imperdib
 ili ad Area Zelig.​\n\nIn scena: Andrea Gaetani\, Fabio Maccioni\, Mari 
 Rinaldi e con Davide Puccetti.\n\n&nbsp\;\nAcquista ora\nAREAZELIG\n\n&nbs
 p\;
ATTACH;FMTTYPE=image/jpeg:https://teatribu.it/wp-content/uploads/2026/01/6
 -Dicembre1-1.png
CATEGORIES:Spettacoli
LOCATION:Area Zelig\, Viale Monza\, 140\, Milano\, MI\, 20127\, Lombardia\,
  Italia
GEO:45.504045;9.222714
X-APPLE-STRUCTURED-LOCATION;VALUE=URI;X-ADDRESS=Viale Monza\, 140\, Milano\
 , MI\, 20127\, Lombardia\, Italia;X-APPLE-RADIUS=100;X-TITLE=Area Zelig:ge
 o:45.504045,9.222714
END:VEVENT
BEGIN:VTIMEZONE
TZID:Europe/Rome
X-LIC-LOCATION:Europe/Rome
BEGIN:STANDARD
DTSTART:20251026T020000
TZOFFSETFROM:+0200
TZOFFSETTO:+0100
TZNAME:CET
END:STANDARD
END:VTIMEZONE
END:VCALENDAR