BEGIN:VCALENDAR
VERSION:2.0
PRODID:-//wp-events-plugin.com//7.2.3.1//EN
TZID:Europe/Rome
X-WR-TIMEZONE:Europe/Rome
BEGIN:VEVENT
UID:30@teatribu.it
DTSTART;TZID=Europe/Rome:20260620T204500
DTEND;TZID=Europe/Rome:20260620T224500
DTSTAMP:20260124T052825Z
URL:https://teatribu.it/events/impromania/
SUMMARY:Impromania
DESCRIPTION:Il grande show di Teatribù ispirato al wrestling arriva con un
 a tappa unica per quest'anno. Un’arena d’eccezione\, un pubblico rumor
 oso e scatenato\, ma mai quanto i nostri improvvisatori. In questa sfida d
 ai round esplosivi vige un’unica regola: nessuna pietà. Il vincitore de
 lla serata verrà proclamato Mr o Ms Impromania ed entrerà nell'Olimpo de
 ll'Impromania! Non perdere il tuo appuntamento con la storia!\nAcquista or
 a\nAREAZELIG - Programmazione
ATTACH;FMTTYPE=image/jpeg:https://teatribu.it/wp-content/uploads/2026/01/i
 mpromania.jpg
CATEGORIES:Spettacoli
LOCATION:Area Zelig\, Viale Monza\, 140\, Milano\, MI\, 20127\, Lombardia\,
  Italia
GEO:45.504045;9.222714
X-APPLE-STRUCTURED-LOCATION;VALUE=URI;X-ADDRESS=Viale Monza\, 140\, Milano\
 , MI\, 20127\, Lombardia\, Italia;X-APPLE-RADIUS=100;X-TITLE=Area Zelig:ge
 o:45.504045,9.222714
END:VEVENT
BEGIN:VTIMEZONE
TZID:Europe/Rome
X-LIC-LOCATION:Europe/Rome
BEGIN:DAYLIGHT
DTSTART:20260329T030000
TZOFFSETFROM:+0100
TZOFFSETTO:+0200
TZNAME:CEST
END:DAYLIGHT
END:VTIMEZONE
END:VCALENDAR