BEGIN:VCALENDAR
VERSION:2.0
PRODID:-//wp-events-plugin.com//7.2.3.1//EN
TZID:Europe/Rome
X-WR-TIMEZONE:Europe/Rome
BEGIN:VEVENT
UID:3@teatribu.it
DTSTART;TZID=Europe/Rome:20251115T204500
DTEND;TZID=Europe/Rome:20251115T224500
DTSTAMP:20251124T063631Z
URL:https://teatribu.it/events/improleague-stuck-in-the-middle/
SUMMARY:Improleague + Stuck In The Middle
DESCRIPTION:Sabato 15 novembre doppio spettacolo con Improleague e Stuck in
  the Middle per una serata da veri appassionati.​\nLa sfida è Fuffa Gur
 u (Amato\, Burrafato\, Castelletti\, Nocerino\, Schierano\, Sia) contro Ti
 riamo a Campari (Angella\, Bruschi\, De Vita\, Guadalupi\, Martulli)\, poi
  Gaetani\, Maccioni e Rinaldi con la partecipazione straordinaria di Claud
 ia Gafà.​\nPresenta Marco Bonetta.\n&nbsp\;\nSold Out
ATTACH;FMTTYPE=image/jpeg:https://teatribu.it/wp-content/uploads/2025/11/2
 5_11_15.png
CATEGORIES:Spettacoli
LOCATION:Teatribù\, Via Agordat\, 32\, Milano\, MI\, 20127\, Lombardia\, I
 talia
GEO:45.502272;9.233577
X-APPLE-STRUCTURED-LOCATION;VALUE=URI;X-ADDRESS=Via Agordat\, 32\, Milano\,
  MI\, 20127\, Lombardia\, Italia;X-APPLE-RADIUS=100;X-TITLE=Teatribù:geo:
 45.502272,9.233577
END:VEVENT
BEGIN:VTIMEZONE
TZID:Europe/Rome
X-LIC-LOCATION:Europe/Rome
BEGIN:STANDARD
DTSTART:20251026T020000
TZOFFSETFROM:+0200
TZOFFSETTO:+0100
TZNAME:CET
END:STANDARD
END:VTIMEZONE
END:VCALENDAR