BEGIN:VCALENDAR
VERSION:2.0
PRODID:-//wp-events-plugin.com//7.2.3.1//EN
TZID:Europe/Rome
X-WR-TIMEZONE:Europe/Rome
BEGIN:VEVENT
UID:11@teatribu.it
DTSTART;TZID=Europe/Rome:20260318T210000
DTEND;TZID=Europe/Rome:20260318T230000
DTSTAMP:20260311T092305Z
URL:https://teatribu.it/events/il-mercoledi-spettacolare-la-mappazza-4/
SUMMARY:Il Mercoledì Spettacolare – La Mappazza
DESCRIPTION:Mercoledì 18 marzo Il Mercoledì Spettacolare porta La Mappazz
 a a Cascina Cuccagna per una serata tutta da ridere.​\nIn scena Paolo Bo
 nanomi\, Marco Castelletti\, Valentina Mazzuto\, Giada Oliveri\, Leonardo 
 Venturi​\nPresenta Damiano Ciarla.\n&nbsp\;\nPresto in vendita
ATTACH;FMTTYPE=image/jpeg:https://teatribu.it/wp-content/uploads/2025/11/1
 8-marzo-1.jpg
CATEGORIES:Spettacoli
LOCATION:Cascina Cuccagna\, Via Privata Cuccagna\, 2/4\, Milano\, MI\, 2013
 5\, Lombardia\, Italia
GEO:45.451133;9.211579
X-APPLE-STRUCTURED-LOCATION;VALUE=URI;X-ADDRESS=Via Privata Cuccagna\, 2/4\
 , Milano\, MI\, 20135\, Lombardia\, Italia;X-APPLE-RADIUS=100;X-TITLE=Casc
 ina Cuccagna:geo:45.451133,9.211579
END:VEVENT
BEGIN:VTIMEZONE
TZID:Europe/Rome
X-LIC-LOCATION:Europe/Rome
BEGIN:STANDARD
DTSTART:20251026T020000
TZOFFSETFROM:+0200
TZOFFSETTO:+0100
TZNAME:CET
END:STANDARD
END:VTIMEZONE
END:VCALENDAR