BEGIN:VCALENDAR
VERSION:2.0
PRODID:-//wp-events-plugin.com//7.2.3.1//EN
TZID:Europe/Rome
X-WR-TIMEZONE:Europe/Rome
BEGIN:VEVENT
UID:23@teatribu.it
DTSTART;TZID=Europe/Rome:20260110T204500
DTEND;TZID=Europe/Rome:20260110T224500
DTSTAMP:20251226T204424Z
URL:https://teatribu.it/events/i-fratelli-colione/
SUMMARY:I Fratelli Colione + Mari Vs Tutti
DESCRIPTION:Sabato 10 gennaio Teatribù ti aspetta con I fratelli Colione +
  Mari vs Tutti\, due spettacoli imperdibili ad Area Zelig.​\n\nIn scena:
  I fratelli Colione\, Roberto Boer\, Fabio Maccioni\, Mico Pugliares\, Mar
 i Rinaldi\, e Marcello Savi!\n\n&nbsp\;\nAcquista ora\nTicketOne
ATTACH;FMTTYPE=image/jpeg:https://teatribu.it/wp-content/uploads/2025/12/1
 0-gennaio-26.jpg
CATEGORIES:Spettacoli
LOCATION:Area Zelig\, Viale Monza\, 140\, Milano\, MI\, 20127\, Lombardia\,
  Italia
GEO:45.504045;9.222714
X-APPLE-STRUCTURED-LOCATION;VALUE=URI;X-ADDRESS=Viale Monza\, 140\, Milano\
 , MI\, 20127\, Lombardia\, Italia;X-APPLE-RADIUS=100;X-TITLE=Area Zelig:ge
 o:45.504045,9.222714
END:VEVENT
BEGIN:VTIMEZONE
TZID:Europe/Rome
X-LIC-LOCATION:Europe/Rome
BEGIN:STANDARD
DTSTART:20251026T020000
TZOFFSETFROM:+0200
TZOFFSETTO:+0100
TZNAME:CET
END:STANDARD
END:VTIMEZONE
END:VCALENDAR