BEGIN:VCALENDAR
VERSION:2.0
PRODID:-//wp-events-plugin.com//7.2.3.1//EN
TZID:Europe/Rome
X-WR-TIMEZONE:Europe/Rome
BEGIN:VEVENT
UID:2@teatribu.it
DTSTART;TZID=Europe/Rome:20251114T204500
DTEND;TZID=Europe/Rome:20251114T224500
DTSTAMP:20251124T063625Z
URL:https://teatribu.it/events/garagebu-improleague-doppia-serata-di-impro
 vvisazione/
SUMMARY:Garagebù + Improleague
DESCRIPTION:Venerdì 14 novembre Teatribù ti porta un appuntamento imperdi
 bile: una serata che unisce l’energia di Garagebù e la competizione cre
 ativa della Improleague.\nIn scena Calamonici\, Castelletti\, Martulli\, M
 otta\, Pignatti e Santus\, seguiti dalla sfida tra Senza Rima e Gli Epicur
 ei\, due squadre pronte a giocarsi tutto… improvvisando!\nA condurre la 
 serata: Gianluca Pozzi.\n&nbsp\;\nSold Out
ATTACH;FMTTYPE=image/jpeg:https://teatribu.it/wp-content/uploads/2025/11/2
 5_11_14.png
CATEGORIES:Spettacoli
LOCATION:Teatribù\, Via Agordat\, 32\, Milano\, MI\, 20127\, Lombardia\, I
 talia
GEO:45.502272;9.233577
X-APPLE-STRUCTURED-LOCATION;VALUE=URI;X-ADDRESS=Via Agordat\, 32\, Milano\,
  MI\, 20127\, Lombardia\, Italia;X-APPLE-RADIUS=100;X-TITLE=Teatribù:geo:
 45.502272,9.233577
END:VEVENT
BEGIN:VTIMEZONE
TZID:Europe/Rome
X-LIC-LOCATION:Europe/Rome
BEGIN:STANDARD
DTSTART:20251026T020000
TZOFFSETFROM:+0200
TZOFFSETTO:+0100
TZNAME:CET
END:STANDARD
END:VTIMEZONE
END:VCALENDAR