BEGIN:VCALENDAR
VERSION:2.0
PRODID:-//wp-events-plugin.com//7.2.3.1//EN
TZID:Europe/Rome
X-WR-TIMEZONE:Europe/Rome
BEGIN:VEVENT
UID:22@teatribu.it
DTSTART;TZID=Europe/Rome:20251212T204500
DTEND;TZID=Europe/Rome:20251212T224500
DTSTAMP:20251211T202000Z
URL:https://teatribu.it/events/garagebu-improleague-4/
SUMMARY:Garagebù + Improleague
DESCRIPTION:Venerdì 12 dicembre appuntamento imperdibile con Garagebù e l
 a Improleague per una notte di creatività e sfide sul palco.​\nIn scena
  per Garagebù: Bruschi\, Camuffo\, Carello\, Gentile\, Petroni e Tumiati\
 , poi Improleague con gli Scarti d'Autore (Cesari\, Losciale\, Mazzuto\, C
 olombo\, Crespo) contro Unwanted (Pecori\, Pagano\, Lazzarin\, Tumiati).
 ​\nA condurre: Matteo Saccaro.\n&nbsp\;\nAcquista ora\n[tc_wb_event id="
 4542" display_type="table" show_event_title="true" show_price="true" ticke
 t_type_title="Tipologia" price_title="Prezzo " quantity_title="Quantità" 
 cart_title="Carrello" quantity="true"]
ATTACH;FMTTYPE=image/jpeg:https://teatribu.it/wp-content/uploads/2025/11/1
 2-Dicembre2-1.jpg
CATEGORIES:Spettacoli
LOCATION:Teatribù\, Via Agordat\, 32\, Milano\, MI\, 20127\, Lombardia\, I
 talia
GEO:45.502272;9.233577
X-APPLE-STRUCTURED-LOCATION;VALUE=URI;X-ADDRESS=Via Agordat\, 32\, Milano\,
  MI\, 20127\, Lombardia\, Italia;X-APPLE-RADIUS=100;X-TITLE=Teatribù:geo:
 45.502272,9.233577
END:VEVENT
BEGIN:VTIMEZONE
TZID:Europe/Rome
X-LIC-LOCATION:Europe/Rome
BEGIN:STANDARD
DTSTART:20251026T020000
TZOFFSETFROM:+0200
TZOFFSETTO:+0100
TZNAME:CET
END:STANDARD
END:VTIMEZONE
END:VCALENDAR