BEGIN:VCALENDAR
VERSION:2.0
PRODID:-//wp-events-plugin.com//7.2.3.1//EN
TZID:Europe/Rome
X-WR-TIMEZONE:Europe/Rome
BEGIN:VEVENT
UID:25@teatribu.it
DTSTART;TZID=Europe/Rome:20260214T210000
DTEND;TZID=Europe/Rome:20260214T230000
DTSTAMP:20260213T202633Z
URL:https://teatribu.it/events/festival-show-2-14-febbraio-2026/
SUMMARY:Festival Show #2 - 14 Febbraio 2026
DESCRIPTION:Gli spettacoli dello Yellow Festival!\nAtto I – Du Gust Is Me
 gl Che Uan\nTutto quello che viene meglio fare in due.\nUn atto dedicato a
 lla forza dei duetti improvvisati: complicità\, contrasti\, chimiche impr
 eviste e il piacere di trovarsi — o perdersi — insieme sul palco. Con 
 Dalila Cito e Mico Pugliares.\n\nAtto II – Unexpected\nI tre docenti int
 ernazionali del festival — Kelly Agathos\, Kasia Chmara e Fena Ortalli 
 — insieme a Fabio Maccioni\, entrano in scena senza un piano\, decidendo
  lo spettacolo all’ultimo istante.\nUn esperimento di improvvisazione pu
 ra: rischioso\, giocoso\, ovviamente irripetibile.\n\n&nbsp\;\nAcquista or
 a\n[tc_wb_event id="4682" display_type="table" show_event_title="true" sho
 w_price="true" ticket_type_title="Tipologia" price_title="Prezzo " quantit
 y_title="Quantità" cart_title="Carrello" quantity="true"]
ATTACH;FMTTYPE=image/jpeg:https://teatribu.it/wp-content/uploads/2026/01/1
 7.jpg
CATEGORIES:Festival,Spettacoli
LOCATION:Teatribù\, Via Agordat\, 32\, Milano\, MI\, 20127\, Lombardia\, I
 talia
GEO:45.502272;9.233577
X-APPLE-STRUCTURED-LOCATION;VALUE=URI;X-ADDRESS=Via Agordat\, 32\, Milano\,
  MI\, 20127\, Lombardia\, Italia;X-APPLE-RADIUS=100;X-TITLE=Teatribù:geo:
 45.502272,9.233577
END:VEVENT
BEGIN:VTIMEZONE
TZID:Europe/Rome
X-LIC-LOCATION:Europe/Rome
BEGIN:STANDARD
DTSTART:20251026T020000
TZOFFSETFROM:+0200
TZOFFSETTO:+0100
TZNAME:CET
END:STANDARD
END:VTIMEZONE
END:VCALENDAR